BEGIN:VCALENDAR
VERSION:2.0
PRODID:-//Bhakti Marga Ireland - ECPv6.15.20//NONSGML v1.0//EN
CALSCALE:GREGORIAN
METHOD:PUBLISH
X-WR-CALNAME:Bhakti Marga Ireland
X-ORIGINAL-URL:https://bhaktimarga.ie
X-WR-CALDESC:Events for Bhakti Marga Ireland
REFRESH-INTERVAL;VALUE=DURATION:PT1H
X-Robots-Tag:noindex
X-PUBLISHED-TTL:PT1H
BEGIN:VTIMEZONE
TZID:Europe/London
BEGIN:DAYLIGHT
TZOFFSETFROM:+0000
TZOFFSETTO:+0100
TZNAME:BST
DTSTART:20250330T010000
END:DAYLIGHT
BEGIN:STANDARD
TZOFFSETFROM:+0100
TZOFFSETTO:+0000
TZNAME:GMT
DTSTART:20251026T010000
END:STANDARD
BEGIN:DAYLIGHT
TZOFFSETFROM:+0000
TZOFFSETTO:+0100
TZNAME:BST
DTSTART:20260329T010000
END:DAYLIGHT
BEGIN:STANDARD
TZOFFSETFROM:+0100
TZOFFSETTO:+0000
TZNAME:GMT
DTSTART:20261025T010000
END:STANDARD
BEGIN:DAYLIGHT
TZOFFSETFROM:+0000
TZOFFSETTO:+0100
TZNAME:BST
DTSTART:20270328T010000
END:DAYLIGHT
BEGIN:STANDARD
TZOFFSETFROM:+0100
TZOFFSETTO:+0000
TZNAME:GMT
DTSTART:20271031T010000
END:STANDARD
END:VTIMEZONE
BEGIN:VEVENT
DTSTART;TZID=Europe/London:20260509T140000
DTEND;TZID=Europe/London:20260509T170000
DTSTAMP:20260420T064553
CREATED:20260404T173614Z
LAST-MODIFIED:20260408T133929Z
UID:10000370-1778335200-1778346000@bhaktimarga.ie
SUMMARY:Kirtan Concert with Swami Anashuya & Pandita Bhavani - Dublin
DESCRIPTION:Join us in Dublin City Centre for a special afternoon of live kirtan with Swami Anashuya and Pandita Bhavani. Both are highly experienced musicians and kirtan practitioners\, known for creating engaging and uplifting musical experiences. Travelling in especially for this event – Swami Anashuya from London and Pandita Bhavani from Frankfurt\, Germany – they bring a depth of musical skill alongside years of experience in devotional chanting. \n \nProgram\n\nIntroduction\nFirst Kirtan (music) session\nBreak\nSatsang (talk)\nSecond Kirtan (music) session\nClosing & wrap-up\n\nComplementary chai and homemade vegan cakes will be available during breaks and at end\, to allow time to relax\, chat\, and connect with others. \nOverview\nKirtan is a simple\, participatory form of music where the audience is invited to join in through call-and-response chanting. Many people find that kirtan has a positive effect on both mind and mood. The repetition of melody and mantra can help reduce stress\, support focus\, and create a sense of calm. It’s also an opportunity to step out of the usual pace of daily life and spend time in a more relaxed\, present state. \n\nWhether you’re new to kirtan or have attended before\, this special afternoon offers a welcoming and down-to-earth way to experience live music that brings people together through rhythm\, voice\, and shared energy. \n\nBhakti Marga on Spotify: https://open.spotify.com/playlist/37i9dQZF1DZ06evO4ich6K\nBhakti Marga on Apple Music: https://music.apple.com/us/artist/bhakti-marga/641026811\n\nEVENT DETAILS\nLocation: The Elbow Room Yoga studios\nAddress: 60/61 Manor St\, Stoneybatter\, Dublin\, D07 CY53\, Ireland\nCost: Donations welcome\nOrganiser: Vamadev
URL:https://bhaktimarga.ie/event/kj-dublin-sa-may26/
LOCATION:The Elbow Room\, 60/61 Manor St\, Stoneybatter\, Dublin\, County Dublin\, D07 CY53\, Ireland
CATEGORIES:Kirtan Dublin
ATTACH;FMTTYPE=image/jpeg:https://bhaktimarga.ie/wp-content/uploads/2026/04/Kj_Dublin_SA2.jpg
ORGANIZER;CN="Vamadev":MAILTO:vamadev@bhaktimarga.ie
END:VEVENT
END:VCALENDAR