BEGIN:VCALENDAR
VERSION:2.0
PRODID:-//Bhakti Marga Ireland - ECPv6.15.20//NONSGML v1.0//EN
CALSCALE:GREGORIAN
METHOD:PUBLISH
X-ORIGINAL-URL:https://bhaktimarga.ie
X-WR-CALDESC:Events for Bhakti Marga Ireland
REFRESH-INTERVAL;VALUE=DURATION:PT1H
X-Robots-Tag:noindex
X-PUBLISHED-TTL:PT1H
BEGIN:VTIMEZONE
TZID:Europe/London
BEGIN:DAYLIGHT
TZOFFSETFROM:+0000
TZOFFSETTO:+0100
TZNAME:BST
DTSTART:20250330T010000
END:DAYLIGHT
BEGIN:STANDARD
TZOFFSETFROM:+0100
TZOFFSETTO:+0000
TZNAME:GMT
DTSTART:20251026T010000
END:STANDARD
BEGIN:DAYLIGHT
TZOFFSETFROM:+0000
TZOFFSETTO:+0100
TZNAME:BST
DTSTART:20260329T010000
END:DAYLIGHT
BEGIN:STANDARD
TZOFFSETFROM:+0100
TZOFFSETTO:+0000
TZNAME:GMT
DTSTART:20261025T010000
END:STANDARD
BEGIN:DAYLIGHT
TZOFFSETFROM:+0000
TZOFFSETTO:+0100
TZNAME:BST
DTSTART:20270328T010000
END:DAYLIGHT
BEGIN:STANDARD
TZOFFSETFROM:+0100
TZOFFSETTO:+0000
TZNAME:GMT
DTSTART:20271031T010000
END:STANDARD
END:VTIMEZONE
BEGIN:VEVENT
DTSTART;TZID=Europe/London:20260411T190000
DTEND;TZID=Europe/London:20260411T210000
DTSTAMP:20260419T202829
CREATED:20260315T192508Z
LAST-MODIFIED:20260315T192508Z
UID:10000364-1775934000-1775941200@bhaktimarga.ie
SUMMARY:Kirtan Night & OM Chanting - Balbriggan
DESCRIPTION:Join us for a a powerful session of spiritual practice\, healing\, and uplifting mantras. \nWe’re pleased to offer two complementary practices within one special event: Kirtan and OM Chanting. Participants are welcome to take part in both sessions or simply join the one that resonates most with them. \n7:00 pm to 8.00 pm: Kirtan & Sacred chants\nKirtan is a gentle\, shared musical experience centred on group participation. Led by Bhakti Marga musicians\, this one-hour session offers a relaxed and steady pace\, inviting everyone to take part through simple call-and-response chanting\, soft rhythms\, and traditional mantras. \n\nRather than a performance to watch\, Kirtan is a shared practice where everyone takes part and helps shape the atmosphere together. Whether you enjoy singing or prefer to join in more quietly\, no prior experience is needed — just a willingness to participate and be part of a focused\, communal chanting session. \n8:00 pm to 9.00 pm: OM Chanting\nOM Chanting is a group practice that uses the transformational power of OM to activate the self-healing potential of participants. The OM vibration resonates during and after the circle\, allowing participants to carry and share the good vibrations wherever they go. This practice also brings people together in service of others\, as the positive vibrations of OM can be offered like a prayer to support those in need. \n\nBenefits\nENHANCE WELL-BEING\nMany participants experience positive shifts: inner peace\, mental clarity\, emotional freedom\, and physical health.\nTRANSFORM NEGATIVITY\nRelease negativity\, transform it\, and be showered with positive energy.\nPURIFY THE ENVIRONMENT\nVibrational waves from OM Chanting spread across a 2-kilometer radius\, creating harmony\, peace\, and unity between humans and nature. \n*Health disclaimer: Group OM Chanting is not suitable for those who are suffering from Schizophrenia\, for those who take anti-depressive medication or under the influence of drugs or alcohol. Why is this?\n\nEVENT DETAILS\nIf only joining OM Chanting\, please arrive by 7:50 PM – as its not possible to join circle once it starts\nWHAT TO BRING\nBring warm clothing and cushions/ blankets for your comfort. Bottles of water can be brought and placed in the middle of the OM Chanting circle to be charged with positive vibrations and experienced when drunk later in the day. \nEvent details\nLocation: The Lark Concert Hall\nAddress: Church Street\, Balbriggan Co. Dublin\, Ireland K32 YV56\nCost: Donations welcome\nOrganiser: Vedini Dasi
URL:https://bhaktimarga.ie/event/kj-omc-balbriggan-apr26/
LOCATION:Lark Concert Hall\, The Lark\, Church Street\, Balbriggan\, Dublin\, K32 YV56\, Ireland
CATEGORIES:OMC Kirtan Jam Balbriggan
ATTACH;FMTTYPE=image/webp:https://bhaktimarga.ie/wp-content/uploads/2026/01/Fb-event_1920x1005_OMC-Balbriggan_2-copy.webp
ORGANIZER;CN="Vedini Dasi":MAILTO:v.visciniene@gmail.com
END:VEVENT
BEGIN:VEVENT
DTSTART;TZID=Europe/London:20260314T190000
DTEND;TZID=Europe/London:20260314T210000
DTSTAMP:20260419T202829
CREATED:20260212T125654Z
LAST-MODIFIED:20260223T231347Z
UID:10000349-1773514800-1773522000@bhaktimarga.ie
SUMMARY:Sanskrit Chanting Workshop & Kirtan Jam - Balbriggan
DESCRIPTION:Join us for an evening of Sanskrit chanting and heartfelt spiritual music. This event has two parts: a practical mantra chanting session followed by a group kirtan jam (call-and-response chanting with live instruments). No previous experience is needed — just an open mind and heart. \n7:00 pm to 8.00 pm: Sanskrit Chanting Workshop\nDuring the workshop\, you’ll learn the basics of Sanskrit pronunciation and how to chant mantras with confidence. You’ll be guided through key Sanskrit sounds and simple techniques for effective chanting\, including pace\, rhythm\, and pitch. We’ll introduce a carefully chosen set of traditional mantras and explain what they mean\, how they can be used and why they have been cherished for generations. To help you continue at home\, you’ll also be given handouts with all the chants included\, so you can practise in your own time. \nhttps://bhaktimarga.ie/wp-content/uploads/2026/02/Gayatri-Mantra.m4a\nThe mantras such as the Gayarti Mantra are taught in the workshop because they relate to the kinds of outcomes people often seek on their spiritual path. In particular\, participants will learn mantras commonly used to support: \n\nAbundance in material and spiritual life\nPeace and well-being in the home\nOvercoming challenges in life\n\nChanting is simple\, but it can be deeply transformative. The combination of sound\, rhythm\, and focused attention can help quiet mental noise and soften stress\, while reconnecting you to a sense of inner stillness and devotion. People often complete the workshop feeling calmer\, more centred\, and carrying a renewed appreciation for the quiet power of sacred mantra. \n8:00 pm to 9.00 pm: Kirtan Jam\n\n\nThe second half of the event is a Kirtan Jam\, where we chant mantras together with live music. Instruments such as the harmonium\, drums\, and cymbals create a steady rhythm\, and the session follows a call-and-response format\, so you can join in without needing to know the words in advance. It’s participatory rather than performative\, and you’re welcome to chant along as much as you like. \nThis part of the evening is also interactive: the music facilitator will invite participants to try simple percussion instruments during the kirtan\, with guidance on keeping time and following the flow of the chants. You can take part on instruments\, chant\, or simply listen at any point — the aim is to create a shared\, supportive atmosphere through mantra\, melody and rhythm. \n\nEVENT DETAILS\nLocation: The Lark Concert Hall\nAddress: Church Street\, Balbriggan Co. Dublin\, Ireland K32 YV56\nCost: €10 in cash or debit card at the event\nOrganiser: Vamadev \n\nRegister free to reserve your place — €10 payable on arrival (cash or card)\n\n\n                \n                        \n                             \n                        \n                        CompanyThis field is for validation purposes and should be left unchanged.Name(Required)\n                            \n                            \n                                                    First\n                                                    \n                                                \n                            \n                            \n                                                            Last\n                                                            \n                                                        \n                            \n                        Email(Required)\n                                \n                                    Enter Email\n                                    \n                                \n                                \n                                    Confirm Email\n                                    \n                                \n                                \n                            Photo and video consent I agreeWe may take some photos or videos during this event to capture the atmosphere and share highlights. By ticking this box\, you’re happy for us to possibly include you in these. If you’d prefer not to\, just let us know on the day.
URL:https://bhaktimarga.ie/event/sansk-kj-balbriggan-mar26/
LOCATION:Lark Concert Hall\, The Lark\, Church Street\, Balbriggan\, Dublin\, K32 YV56\, Ireland
CATEGORIES:SansChant-KJ-Balbriggan
ATTACH;FMTTYPE=image/webp:https://bhaktimarga.ie/wp-content/uploads/2026/02/Fb-event_1920x1005_Sanskrit-Balbriggan_2.webp
ORGANIZER;CN="Vamadev":MAILTO:vamadev@bhaktimarga.ie
END:VEVENT
BEGIN:VEVENT
DTSTART;TZID=Europe/London:20260221T190000
DTEND;TZID=Europe/London:20260221T210000
DTSTAMP:20260419T202829
CREATED:20260102T165244Z
LAST-MODIFIED:20260219T182319Z
UID:10000333-1771700400-1771707600@bhaktimarga.ie
SUMMARY:Kirtan Night & OM Chanting - Balbriggan
DESCRIPTION:Join us for a a powerful session of spiritual practice\, healing\, and uplifting mantras. \nWe’re pleased to offer two complementary practices within one special event: Kirtan and OM Chanting. Participants are welcome to take part in both sessions or simply join the one that resonates most with them. \n7:00 pm to 8.00 pm: Kirtan & Sacred chants\nKirtan is a gentle\, shared musical experience centred on group participation. Led by Bhakti Marga musicians\, this one-hour session offers a relaxed and steady pace\, inviting everyone to take part through simple call-and-response chanting\, soft rhythms\, and traditional mantras. \n\nRather than a performance to watch\, Kirtan is a shared practice where everyone takes part and helps shape the atmosphere together. Whether you enjoy singing or prefer to join in more quietly\, no prior experience is needed — just a willingness to participate and be part of a focused\, communal chanting session. \n8:00 pm to 9.00 pm: OM Chanting\nOM Chanting is a group practice that uses the transformational power of OM to activate the self-healing potential of participants. The OM vibration resonates during and after the circle\, allowing participants to carry and share the good vibrations wherever they go. This practice also brings people together in service of others\, as the positive vibrations of OM can be offered like a prayer to support those in need. \n\nBenefits\nENHANCE WELL-BEING\nMany participants experience positive shifts: inner peace\, mental clarity\, emotional freedom\, and physical health.\nTRANSFORM NEGATIVITY\nRelease negativity\, transform it\, and be showered with positive energy.\nPURIFY THE ENVIRONMENT\nVibrational waves from OM Chanting spread across a 2-kilometer radius\, creating harmony\, peace\, and unity between humans and nature. \n*Health disclaimer: Group OM Chanting is not suitable for those who are suffering from Schizophrenia\, for those who take anti-depressive medication or under the influence of drugs or alcohol. Why is this?\n\nEVENT DETAILS\nIf only joining OM Chanting\, please arrive by 7:50 PM – as its not possible to join circle after it starts\nWHAT TO BRING\nBring warm clothing and cushions/ blankets for your comfort. Bottles of water can be brought and placed in the middle of the OM Chanting circle to be charged with positive vibrations and experienced when drunk later in the day. \nEvent details\nLocation: The Lark Concert Hall\nAddress: Church Street\, Balbriggan Co. Dublin\, Ireland K32 YV56\nCost: Donations welcome\nOrganiser: Vedini Dasi
URL:https://bhaktimarga.ie/event/omc-kirtan-balbriggan-feb26/
LOCATION:Lark Concert Hall\, The Lark\, Church Street\, Balbriggan\, Dublin\, K32 YV56\, Ireland
CATEGORIES:OMC Kirtan Jam Balbriggan
ATTACH;FMTTYPE=image/webp:https://bhaktimarga.ie/wp-content/uploads/2026/01/Fb-event_1920x1005_OMC-Balbriggan_2-copy.webp
ORGANIZER;CN="Vedini Dasi":MAILTO:v.visciniene@gmail.com
END:VEVENT
BEGIN:VEVENT
DTSTART;TZID=Europe/London:20260117T190000
DTEND;TZID=Europe/London:20260117T210000
DTSTAMP:20260419T202829
CREATED:20251210T160913Z
LAST-MODIFIED:20260114T142134Z
UID:10000328-1768676400-1768683600@bhaktimarga.ie
SUMMARY:OM Chanting & Kirtan Night - Balbriggan
DESCRIPTION:Join us for a a powerful session of spiritual practice\, healing\, and uplifting mantras. \nWe’re excited to offer two transformative activities in one special event: OM Chanting and Kirtan. Participants are welcome to join both or choose the one that resonates most with them. \n7:00 pm to 8.00 pm: OM Chanting\nOM Chanting is a group practice that uses the transformational power of OM to activate the self-healing potential of participants. The OM vibration resonates during and after the circle\, allowing participants to carry and share the good vibrations wherever they go. This practice also brings people together in service of others\, as the positive vibrations of OM can be offered like a prayer to support those in need. \n\nBenefits\nENHANCE WELL-BEING\nMany participants experience positive shifts: inner peace\, mental clarity\, emotional freedom\, and physical health.\nTRANSFORM NEGATIVITY\nRelease negativity\, transform it\, and be showered with positive energy.\nPURIFY THE ENVIRONMENT\nVibrational waves from OM Chanting spread across a 2-kilometer radius\, creating harmony\, peace\, and unity between humans and nature. \n*Health disclaimer: Group OM Chanting is not suitable for those who are suffering from Schizophrenia\, for those who take anti-depressive medication or under the influence of drugs or alcohol. Why is this?\n\n\n8:00 pm to 9.00 pm: Kirtan Jam\nKirtan is a vibrant\, shared musical experience centred on group participation. Led by Bhakti Marga musicians\, this one-hour session of fast-paced\, high-energy music invites everyone to join in through powerful call-and-response chanting\, driving rhythms\, and ancient mantras. \nUnlike a traditional passive listening concert\, all participants come together in a joyful celebration of devotion. Whether you’re an experienced singer or simply moved by music\, no prior experience is needed — just your voice\, your energy\, and an open heart to be part of this uplifting\, communal journey. \nEVENT DETAILS\nWHAT TO BRING\nBring warm clothing and cushions/ blankets for your comfort. Bottles of water can be brought and placed in the middle of the OM Chanting circle to be charged with positive vibrations and experienced when drunk later in the day. \nEvent details\nLocation: The Lark Concert Hall\nAddress: Church Street\, Balbriggan Co. Dublin\, Ireland K32 YV56\nCost: Donations welcome\nOrganiser: Viktorija / Vedini Dasi
URL:https://bhaktimarga.ie/event/omc-kirtanjam-balbrig-jan17/
LOCATION:Lark Concert Hall\, The Lark\, Church Street\, Balbriggan\, Dublin\, K32 YV56\, Ireland
CATEGORIES:OMC Kirtan Jam Balbriggan
ATTACH;FMTTYPE=image/jpeg:https://bhaktimarga.ie/wp-content/uploads/2025/07/Kirtan-with-drums.jpg
ORGANIZER;CN="Vedini Dasi":MAILTO:v.visciniene@gmail.com
END:VEVENT
END:VCALENDAR