BEGIN:VCALENDAR
VERSION:2.0
PRODID:-//Bhakti Marga Ireland - ECPv6.15.20//NONSGML v1.0//EN
CALSCALE:GREGORIAN
METHOD:PUBLISH
X-ORIGINAL-URL:https://bhaktimarga.ie
X-WR-CALDESC:Events for Bhakti Marga Ireland
REFRESH-INTERVAL;VALUE=DURATION:PT1H
X-Robots-Tag:noindex
X-PUBLISHED-TTL:PT1H
BEGIN:VTIMEZONE
TZID:Europe/London
BEGIN:DAYLIGHT
TZOFFSETFROM:+0000
TZOFFSETTO:+0100
TZNAME:BST
DTSTART:20250330T010000
END:DAYLIGHT
BEGIN:STANDARD
TZOFFSETFROM:+0100
TZOFFSETTO:+0000
TZNAME:GMT
DTSTART:20251026T010000
END:STANDARD
BEGIN:DAYLIGHT
TZOFFSETFROM:+0000
TZOFFSETTO:+0100
TZNAME:BST
DTSTART:20260329T010000
END:DAYLIGHT
BEGIN:STANDARD
TZOFFSETFROM:+0100
TZOFFSETTO:+0000
TZNAME:GMT
DTSTART:20261025T010000
END:STANDARD
BEGIN:DAYLIGHT
TZOFFSETFROM:+0000
TZOFFSETTO:+0100
TZNAME:BST
DTSTART:20270328T010000
END:DAYLIGHT
BEGIN:STANDARD
TZOFFSETFROM:+0100
TZOFFSETTO:+0000
TZNAME:GMT
DTSTART:20271031T010000
END:STANDARD
END:VTIMEZONE
BEGIN:VEVENT
DTSTART;TZID=Europe/London:20260415T190000
DTEND;TZID=Europe/London:20260415T200000
DTSTAMP:20260420T034624
CREATED:20260407T122214Z
LAST-MODIFIED:20260407T122214Z
UID:10000372-1776279600-1776283200@bhaktimarga.ie
SUMMARY:OM Chanting - Wilton\, Cork
DESCRIPTION:OM Chanting is a group practice that uses the transformational power of om to activate the self-healing potential of participants. The om vibration continues to resonate in participants’ bodies after the circle\, allowing them to share the good vibrations wherever they go. \n\nOM CHANTING BENEFITS\nENHANCE WELL-BEING OM Chanting promotes inner peace\, mental clarity\, emotional freedom and physical health. Many people experience positive shifts.\nTRANSFORM NEGATIVITY OM Chanting generates a vibrational frequency that releases negativity\, transforms it and showers participants with positive energy.\nPURIFY THE ENVIRONMENT The vibrational waves created by the OM Chanting practise spreads out in a 2-kilometre radius\, creating a harmonious\, peaceful environment and a unity between humans and nature. \n*Health disclaimer: Group OM Chanting is not suitable for those who are suffering from Schizophrenia or under the influence of drugs or alcohol. Why is this?\n\nEVENT DETAILS\nPlease arrive by 6:50 PM – as its not possible to join circle after it starts\nWHAT TO BRING\nBring warm clothing and cushions/ blankets for your comfort. You can also bring a bottle of water to place in the middle of the chanting circle to charge it with positive vibrations which you can take home and drink at a later time. \nLocation: Bru Columbanus\nAddress: Cardinal Way\, Wilton\, Cork\, T12 TN97\nCost: Donations welcome\nOrganiser: Sadyovedavsti Dasi
URL:https://bhaktimarga.ie/event/omc-wilton-apr26-2/
LOCATION:Bru Columbanus\, Cardinal Way\, Wilton\, Cork\, T12 TN97\, Ireland
CATEGORIES:Om Chanting - Wilton Cork
ATTACH;FMTTYPE=image/jpeg:https://bhaktimarga.ie/wp-content/uploads/2026/03/OMC-Wilton-1.jpg
ORGANIZER;CN="Sadyovedavsti Dasi":MAILTO:sadyovedavatidasi@tutamail.com
END:VEVENT
BEGIN:VEVENT
DTSTART;TZID=Europe/London:20260402T190000
DTEND;TZID=Europe/London:20260402T200000
DTSTAMP:20260420T034624
CREATED:20260326T114540Z
LAST-MODIFIED:20260402T192613Z
UID:10000367-1775156400-1775160000@bhaktimarga.ie
SUMMARY:Full Moon OM Chanting - Wilton\, Cork
DESCRIPTION:OM Chanting is a group practice that uses the transformational power of om to activate the self-healing potential of participants. The om vibration continues to resonate in participants’ bodies after the circle\, allowing them to share the good vibrations wherever they go. \n\nOM CHANTING BENEFITS\nENHANCE WELL-BEING OM Chanting promotes inner peace\, mental clarity\, emotional freedom and physical health. Many people experience positive shifts.\nTRANSFORM NEGATIVITY OM Chanting generates a vibrational frequency that releases negativity\, transforms it and showers participants with positive energy.\nPURIFY THE ENVIRONMENT The vibrational waves created by the OM Chanting practise spreads out in a 2-kilometre radius\, creating a harmonious\, peaceful environment and a unity between humans and nature. \n*Health disclaimer: Group OM Chanting is not suitable for those who are suffering from Schizophrenia or under the influence of drugs or alcohol. Why is this?\n\nEVENT DETAILS\nPlease arrive by 6:50 PM – as its not possible to join circle after it starts\nWHAT TO BRING\nBring warm clothing and cushions/ blankets for your comfort. You can also bring a bottle of water to place in the middle of the chanting circle to charge it with positive vibrations which you can take home and drink at a later time. \nLocation: Bru Columbanus\nAddress: Cardinal Way\, Wilton\, Cork\, T12 TN97\nCost: Donations welcome\nOrganiser: Sadyovedavsti Dasi
URL:https://bhaktimarga.ie/event/omc-wilton-apr26/
LOCATION:Bru Columbanus\, Cardinal Way\, Wilton\, Cork\, T12 TN97\, Ireland
CATEGORIES:Om Chanting - Wilton Cork
ATTACH;FMTTYPE=image/jpeg:https://bhaktimarga.ie/wp-content/uploads/2026/03/OMC-Wilton-1.jpg
ORGANIZER;CN="Sadyovedavsti Dasi":MAILTO:sadyovedavatidasi@tutamail.com
END:VEVENT
BEGIN:VEVENT
DTSTART;TZID=Europe/London:20260321T150000
DTEND;TZID=Europe/London:20260321T160000
DTSTAMP:20260420T034624
CREATED:20260313T132546Z
LAST-MODIFIED:20260313T132546Z
UID:10000361-1774105200-1774108800@bhaktimarga.ie
SUMMARY:OM Chanting - Wilton\, Cork
DESCRIPTION:OM Chanting is a group practice that uses the transformational power of om to activate the self-healing potential of participants. The om vibration continues to resonate in participants’ bodies after the circle\, allowing them to share the good vibrations wherever they go. \n\nOM CHANTING BENEFITS\nENHANCE WELL-BEING OM Chanting promotes inner peace\, mental clarity\, emotional freedom and physical health. Many people experience positive shifts.\nTRANSFORM NEGATIVITY OM Chanting generates a vibrational frequency that releases negativity\, transforms it and showers participants with positive energy.\nPURIFY THE ENVIRONMENT The vibrational waves created by the OM Chanting practise spreads out in a 2-kilometre radius\, creating a harmonious\, peaceful environment and a unity between humans and nature. \n*Health disclaimer: Group OM Chanting is not suitable for those who are suffering from Schizophrenia or under the influence of drugs or alcohol. Why is this?\n\nEVENT DETAILS\nPlease arrive by 2:50 PM – as its not possible to join circle once it starts\nWHAT TO BRING\nBring warm clothing and cushions/ blankets for your comfort. You can also bring a bottle of water to place in the middle of the chanting circle to charge it with positive vibrations which you can take home and drink at a later time. \nLocation: Bru Columbanus\nAddress: Cardinal Way\, Wilton\, Cork\, T12 TN97\nCost: Donations welcome\nOrganiser: Sadyovedavsti Dasi
URL:https://bhaktimarga.ie/event/omc-wilton-cork-mar26/
LOCATION:Bru Columbanus\, Cardinal Way\, Wilton\, Cork\, T12 TN97\, Ireland
CATEGORIES:Om Chanting - Wilton Cork
ATTACH;FMTTYPE=image/jpeg:https://bhaktimarga.ie/wp-content/uploads/2025/07/OM-Chanting-in-large-group.jpg
ORGANIZER;CN="Sadyovedavsti Dasi":MAILTO:sadyovedavatidasi@tutamail.com
END:VEVENT
END:VCALENDAR