BEGIN:VCALENDAR
VERSION:2.0
PRODID:-//Bhakti Marga Ireland - ECPv6.15.20//NONSGML v1.0//EN
CALSCALE:GREGORIAN
METHOD:PUBLISH
X-WR-CALNAME:Bhakti Marga Ireland
X-ORIGINAL-URL:https://bhaktimarga.ie
X-WR-CALDESC:Events for Bhakti Marga Ireland
REFRESH-INTERVAL;VALUE=DURATION:PT1H
X-Robots-Tag:noindex
X-PUBLISHED-TTL:PT1H
BEGIN:VTIMEZONE
TZID:Europe/London
BEGIN:DAYLIGHT
TZOFFSETFROM:+0000
TZOFFSETTO:+0100
TZNAME:BST
DTSTART:20250330T010000
END:DAYLIGHT
BEGIN:STANDARD
TZOFFSETFROM:+0100
TZOFFSETTO:+0000
TZNAME:GMT
DTSTART:20251026T010000
END:STANDARD
BEGIN:DAYLIGHT
TZOFFSETFROM:+0000
TZOFFSETTO:+0100
TZNAME:BST
DTSTART:20260329T010000
END:DAYLIGHT
BEGIN:STANDARD
TZOFFSETFROM:+0100
TZOFFSETTO:+0000
TZNAME:GMT
DTSTART:20261025T010000
END:STANDARD
BEGIN:DAYLIGHT
TZOFFSETFROM:+0000
TZOFFSETTO:+0100
TZNAME:BST
DTSTART:20270328T010000
END:DAYLIGHT
BEGIN:STANDARD
TZOFFSETFROM:+0100
TZOFFSETTO:+0000
TZNAME:GMT
DTSTART:20271031T010000
END:STANDARD
END:VTIMEZONE
BEGIN:VEVENT
DTSTART;TZID=Europe/London:20260327T190000
DTEND;TZID=Europe/London:20260327T203000
DTSTAMP:20260420T060052
CREATED:20260130T135818Z
LAST-MODIFIED:20260313T132346Z
UID:10000341-1774638000-1774643400@bhaktimarga.ie
SUMMARY:OM Chanting - Sligo
DESCRIPTION:OM Chanting is a group practice that uses the transformational power of om to activate the self-healing potential of participants. The om vibration continues to resonate in participants’ bodies after the circle\, allowing them to share the good vibrations wherever they go. \nHEAL YOURSELF\, HUMANITY AND MOTHER EARTH WITH OM CHANTING\nOM Chanting also brings people together in service of others. Like a prayer\, the positive vibrations of om can be offered to support those in need. \n\nOM CHANTING BENEFITS\nENHANCE WELL-BEING\nOM Chanting promotes inner peace\, mental clarity\, emotional freedom and physical health. Many people experience positive shifts. \nTRANSFORM NEGATIVITY\nOM Chanting generates a vibrational frequency that releases negativity\, transforms it and showers participants with positive energy. \nPURIFY THE ENVIRONMENT\nThe vibrational waves created by the OM Chanting practise spreads out in a 2-kilometre radius\, creating a harmonious\, peaceful environment and a unity between humans and nature. \n*Health disclaimer: Group OM Chanting is not suitable for those who are suffering from Schizophrenia\, for those who take anti-depressive medication or under the influence of drugs or alcohol. Why is this?\n\n\n\n\nEVENT DETAILS\nWHAT TO BRING\nBring warm clothing and cushions/ blankets for your comfort. You can also bring a bottle of water to place in the middle of the chanting circle to charge it with positive vibrations which you can take home and drink at a later time. \nEvent details\nPlease arrive by 6:50 PM – as its not possible to join circle after it starts\nLocation: Carraroe Community Centre\nAddress:St John’s Presbytery\, Carraroe\, Co. Sligo\, Ireland\, F91 E729\nCost: Donations welcome\nOrganiser: Chris Ettery
URL:https://bhaktimarga.ie/event/omc-sligo-mar26/
LOCATION:Carraroe Community Centre\, St John’s Presbytery\, Carraroe\, Sligo\, Sligo\, F91 E729\, Ireland
CATEGORIES:OM Chanting Sligo
ATTACH;FMTTYPE=image/webp:https://bhaktimarga.ie/wp-content/uploads/2026/01/Fb-event_1920x1005_OMC-Sligo_2-copy.webp
ORGANIZER;CN="Chris Ettery":MAILTO:etteryc@gmail.com
END:VEVENT
END:VCALENDAR