BEGIN:VCALENDAR
VERSION:2.0
PRODID:-//Bhakti Marga Ireland - ECPv6.15.20//NONSGML v1.0//EN
CALSCALE:GREGORIAN
METHOD:PUBLISH
X-ORIGINAL-URL:https://bhaktimarga.ie
X-WR-CALDESC:Events for Bhakti Marga Ireland
REFRESH-INTERVAL;VALUE=DURATION:PT1H
X-Robots-Tag:noindex
X-PUBLISHED-TTL:PT1H
BEGIN:VTIMEZONE
TZID:Europe/London
BEGIN:DAYLIGHT
TZOFFSETFROM:+0000
TZOFFSETTO:+0100
TZNAME:BST
DTSTART:20250330T010000
END:DAYLIGHT
BEGIN:STANDARD
TZOFFSETFROM:+0100
TZOFFSETTO:+0000
TZNAME:GMT
DTSTART:20251026T010000
END:STANDARD
BEGIN:DAYLIGHT
TZOFFSETFROM:+0000
TZOFFSETTO:+0100
TZNAME:BST
DTSTART:20260329T010000
END:DAYLIGHT
BEGIN:STANDARD
TZOFFSETFROM:+0100
TZOFFSETTO:+0000
TZNAME:GMT
DTSTART:20261025T010000
END:STANDARD
BEGIN:DAYLIGHT
TZOFFSETFROM:+0000
TZOFFSETTO:+0100
TZNAME:BST
DTSTART:20270328T010000
END:DAYLIGHT
BEGIN:STANDARD
TZOFFSETFROM:+0100
TZOFFSETTO:+0000
TZNAME:GMT
DTSTART:20271031T010000
END:STANDARD
END:VTIMEZONE
BEGIN:VEVENT
DTSTART;TZID=Europe/London:20260507T190000
DTEND;TZID=Europe/London:20260507T200000
DTSTAMP:20260420T044017
CREATED:20260415T091316Z
LAST-MODIFIED:20260415T091405Z
UID:10000375-1778180400-1778184000@bhaktimarga.ie
SUMMARY:OM Chanting - Knocklyon
DESCRIPTION:OM Chanting is a group practice that uses the transformational power of om to activate the self-healing potential of participants. The om vibration continues to resonate in participants’ bodies after the circle\, allowing them to share the good vibrations wherever they go. \n\nOM CHANTING BENEFITS\nENHANCE WELL-BEING OM Chanting promotes inner peace\, mental clarity\, emotional freedom and physical health. Many people experience positive shifts. TRANSFORM NEGATIVITY OM Chanting generates a vibrational frequency that releases negativity\, transforms it and showers participants with positive energy.PURIFY THE ENVIRONMENT The vibrational waves created by the OM Chanting practise spreads out in a 2-kilometre radius\, creating a harmonious\, peaceful environment and a unity between humans and nature. \n*Health disclaimer: Group OM Chanting is not suitable for those who are suffering from Schizophrenia or under the influence of drugs or alcohol. Why is this?\nPlease arrive by 6:50 PM – as its not possible to join circle once it starts\n\nEvent details \nLocation: Dolly’s room\, Firhouse Community Centre\, Address: Ballycullen Drive\, Firhouse\, Dublin 24\, D24 YY0HCost: Donations welcomeOrganiser: Ita Tunney
URL:https://bhaktimarga.ie/event/omc-knocklyon-may26/
LOCATION:Firhouse Community Club\, Ballycullen Drive\, Firhouse\, Dublin 24\, D24 YY0H\, Ireland
CATEGORIES:OM Chanting Knocklyon
ATTACH;FMTTYPE=image/webp:https://bhaktimarga.ie/wp-content/uploads/2026/02/Fb-event_1920x1005_OMC-Knocklyon_2-copy.webp
ORGANIZER;CN="Ita Tunney":MAILTO:itatunney@proton.me
END:VEVENT
END:VCALENDAR